{"text_format":"1","workbook":"xlsx","n_sheets":6,"sheets":["Start","Example I - red line","Example II - blue line","Example III - green line","Example IV - purple line","Figure 1"],"not_rendered":{"charts":7,"images":1,"macros":1,"external_links":0,"defined_names":1,"comments":0,"pivot_tables":0},"unopened":[],"bounds":{"document_bytes":16777216,"sheet_cells":100000,"rows_first":2000,"rows_last":500,"rows_between":2000,"halvings":0,"cell_chars":16384,"cell_head_chars":4096},"cells_cut":0,"cells_raw":0,"read":"whole","date_system":"1900"}

{"sheet":"Start","index":0,"n_rows":0,"n_cols":0,"rows_kept":0,"cut":false,"hidden":false,"merged":[]}

{"sheet":"Example I - red line","index":1,"n_rows":132,"n_cols":5,"rows_kept":132,"cut":false,"hidden":false,"merged":[]}
["Evaporation Model"]
["General parameters used for all models"]
["Exposure Duration",120,"min"]
["Molecular weight matrix",18,"g/mol"]
["Product amount",0.8,"kg"]
["Weight Fraction",2.5000000000000001E-3]
["Room Volume",80,"m³"]
["Ventilation rate",0.5,"/h"]
["Vapour pressure",214,"Pa"]
["Application temperature",20,"°C"]
["Molecular weight",34,"g/mol"]
["Release Area",40,"m²"]
["Mass Transfer Coefficient",10,"m/h"]
["Application Duration",15,"min"]
["Does area increase?",true]
["Number of iterations",10000]
["Result Lines",100]
["Duration of calculated STEL",15,"min"]
[]
["Parameters used for 2 compound simulation"]
["vapour pressure solvent",{"$f":"pwater(B10)","v":{"$error":"#NAME?"}},"Pa"]
["air humidity at start & in ventillation air",0,"% - Please enter 0, if solvent is NOT WATER"]
[]
[]
["Results"]
[null,"from shown table","from internally calculated values"]
["Mean Event concentration [mg/m³]",{"$f":"sigdigits(AVERAGE(B32:B132),4,5)","v":{"$error":"#NAME?"}},14.482832079430274]
["Max [mg/m³]",{"$f":"sigdigits(MAX(B32:B132),4,5)","v":{"$error":"#NAME?"}},24.621592264707523,"at 17.88 min"]
["15 min STEL [mg/m³]",null,23.161903181813798,"between 17.784 and 32.784 min"]
[]
["time [min]","air concentration substance [mg/m³]","amount of substance remaining liquid [g]","air concentration solvent [mg/m³]","amount of solvent remaining liquid [g]"]
[0,0,0,0,0]
[1.2,1.6614786878707991E-2,0.15866644000538038,68.611147137018975,58.332781702389049]
[2.4,6.9791072391830272E-2,0.31438038574836075,271.8822414768037,105.78370546153781]
[3.6,0.16497376255213217,0.46667486133209052,603.63985977812092,142.7411842945352]
[4.8,0.30838079886224895,0.61501639902346683,1054.8278416777389,169.83036311020081]
[6,0.50727666947128003,0.75878243468474749,1613.8732219589483,187.88601037600085]
[7.2,0.77030405930322654,0.89723380931190932,2267.1376085813386,197.91824569456236]
[8.4,1.1078518552329661,1.0294840799651435,2999.4297786577404,201.07298264558423]
[9.6,1.5324028164485037,1.1544701657398859,3794.5531279606321,198.58915753841742]
[10.8,2.0587398224254465,1.2709340748880131,4635.8613991875982,191.75485285596639]
[12,2.7037802496750549,1.3774343452185847,5506.7978749186059,181.86430399982009]
[13.2,3.4856441751359792,1.4724191845766199,6391.3968342904463,170.17750741959091]
[14.4,4.4213697792939239,1.5544090771093932,7274.7311063556517,157.88376051061528]
[15.6,5.5900777523343663,1.5366708579796633,8133.835072843588,114.80170665987529]
[16.8,7.8816226414384278,1.3480950855855161,8905.2106406407984,46.269500527983404]
[18,24.598660654235474,7.3879728994002314E-9,9391.3631563393174,7.0724656211935426E-9]
[19.2,24.353899982617932,1.8691840499448306E-51,9297.9175316993351,1.7893595595066851E-51]
[20.399999999999999,24.111574628934754,4.7291037205236587E-94,9205.4017064724085,4.5271448525721174E-94]
[21.6,23.8716604528075,1.1964804643037039E-136,9113.806429087319,1.1453841351941884E-136]
[22.8,23.634133462618649,3.0271391495340065E-179,9023.1225399400046,2.8978635760001698E-179]
[24,23.398969905471255,7.6587722942674498E-222,8933.3409705659797,7.3317003851155661E-222]
[25.2,23.166146264813605,1.9376972830756134E-264,8844.4527427334742,1.8549468988908859E-264]
[26.4,22.935639258087622,4.9024446955407737E-307,8756.4489675456425,4.6930832098517177E-307]
[27.6,22.707425834400535,0,8669.3208445516393,0]
[28.8,22.481483172219829,0,8583.0596608665401,0]
[30,22.25778867709095,0,8497.6567903001142,0]
[31.2,22.036319979378028,0,8413.10369249412,0]
[32.4,21.817054932026689,0,8329.3919120683186,0]
[33.6,21.599971608349499,0,8246.5130777749018,0]
[34.799999999999997,21.385048299833187,0,8164.4589016613827,0]
[36,21.172263513967781,0,8083.2211782417662,0]
[37.200000000000003,20.961595972097392,0,8002.7917836760162,0]
[38.4,20.753024607292261,0,7923.1626749576517,0]
[39.6,20.546528562242074,0,7844.3258891094374,0]
[40.799999999999997,20.342087187170304,0,7766.2735423870918,0]
[42,20.13968003776905,0,7688.9978294909006,0]
[43.2,19.939286873154671,0,7612.4910227851778,0]
[44.4,19.740887653843757,0,7536.7454715254989,0]
[45.6,19.54446253974902,0,7461.7536010936137,0]
[46.8,19.349991888195358,0,7387.5079122399866,0]
[48,19.157456251955573,0,7314.0009803338644,0]
[49.2,18.966836377305583,0,7241.225454620796,0]
[50.4,18.778113202099075,0,7169.1740574875648,0]
[51.6,18.59126785386125,0,7097.8395837344078,0]
[52.8,18.406281647901597,0,7027.2148998545108,0]
[54,18.223136085445329,0,6957.2929433206373,0]
[55.2,18.041812851783618,0,6888.0667218788576,0]
[56.4,17.862293814441983,0,6819.5293128493386,0]
[57.6,17.684561021367095,0,6751.6738624340678,0]
[58.8,17.508596699131513,0,6684.4935850314496,0]
[60,17.334383251156375,0,6617.9817625577698,0]
[61.2,17.161903255951749,0,6552.1317437753469,0]
[62.4,16.991139465374335,0,6486.9369436274301,0]
[63.6,16.822074802902783,0,6422.3908425796753,0]
[64.8,16.65469236192996,0,6358.4869859681885,0]
[66,16.488975404072281,0,6295.2189833540497,0]
[67.2,16.324907357495889,0,6232.5805078842805,0]
[68.400000000000006,16.16247181525938,0,6170.5652956591357,0]
[69.599999999999994,16.001652533673155,0,6109.1671451057146,0]
[70.8,15.84243343067506,0,6048.3799163577933,0]
[72,15.684798584222106,0,5988.1975306418426,0]
[73.2,15.528732230698274,0,5928.6139696691343,0]
[74.400000000000006,15.374218763338176,0,5869.6232750339223,0]
[75.599999999999994,15.221242730666305,0,5811.2195476175848,0]
[76.8,15.069788834951915,0,5753.396946998706,0]
[78,14.919841930679214,0,5696.1496908690406,0]
[79.2,14.771387023032823,0,5639.4720544552674,0]
[80.400000000000006,14.624409266398265,0,5583.3583699465189,0]
[81.599999999999994,14.478893962877381,0,5527.8030259275802,0]
[82.8,14.334826560818597,0,5472.8004668177509,0]
[84,14.192192653361612,0,5418.3451923152925,0]
[85.2,14.050977976996821,0,5364.4317568473607,0]
[86.4,13.911168410138922,0,5311.0547690254862,0]
[87.6,13.772749971714729,0,5258.2088911064093,0]
[88.8,13.635708819765028,0,5205.8888384582979,0]
[90,13.500031250060429,0,5154.0893790322871,0]
[91.2,13.365703694730891,0,5102.805332839268,0]
[92.4,13.232712720908957,0,5052.0315714318858,0]
[93.6,13.101045029386414,0,5001.7630173916859,0]
[94.8,12.970687453284379,0,4951.9946438213692,0]
[96,12.841626956736624,0,4902.721473842118,0]
[97.2,12.713850633585933,0,4853.9385800958589,0]
[98.4,12.587345706093508,0,4805.6410842525756,0]
[99.6,12.46209952366118,0,4757.8241565224371,0]
[100.8,12.338099561566347,0,4710.4830151728147,0]
[102,12.215333419709438,0,4663.6129260501239,0]
[103.2,12.093788821373982,0,4617.2092021064009,0]
[104.4,11.973453611998867,0,4571.2672029305704,0]
[105.6,11.854315757962855,0,4525.7823342844367,0]
[106.8,11.736363345381273,0,4480.7500476432242,0]
[108,11.619584578914555,0,4436.1658397407555,0]
[109.2,11.503967780588752,0,4392.025252119076,0]
[110.4,11.389501388627682,0,4348.3238706826342,0]
[111.6,11.276173956296754,0,4305.0573252568765,0]
[112.8,11.163974150758296,0,4262.2212891512081,0]
[114,11.052890751938262,0,4219.8114787263185,0]
[115.2,10.942912651404203,0,4177.8236529658188,0]
[116.4,10.834028851254402,0,4136.2536130521539,0]
[117.6,10.726228463018106,0,4095.097201946684,0]
[118.8,10.619500706566667,0,4054.3503039739985,0]
[120,10.513834909035499,0,4014.0088444103476,0]

{"sheet":"Example II - blue line","index":2,"n_rows":132,"n_cols":4,"rows_kept":132,"cut":false,"hidden":false,"merged":[]}
["Evaporation Model"]
["General parameters used for all models"]
["Exposure Duration",120,"min"]
["Molecular weight matrix",18,"g/mol"]
["Product amount",0.8,"kg"]
["Weight Fraction",2.5000000000000001E-3]
["Room Volume",80,"m³"]
["Ventilation rate",0.5,"/h"]
["Vapour pressure",214,"Pa"]
["Application temperature",20,"°C"]
["Molecular weight",34,"g/mol"]
["Release Area",40,"m²"]
["Mass Transfer Coefficient",10,"m/h"]
["Application Duration",15,"min"]
["Does area increase?",true]
["Number of iterations",10000]
["Result Lines",100]
["Duration of calculated STEL",15,"min"]
[]
["Parameters used for 2 compound simulation"]
["vapour pressure solvent",null,"Pa"]
["air humidity at start & in ventillation air",null,"% - Please enter 0, if solvent is NOT WATER"]
[]
[]
["Results"]
[null,"from shown table","from internally calculated values"]
["Mean Event concentration [mg/m³]",{"$f":"sigdigits(AVERAGE(B32:B132),4,5)","v":{"$error":"#NAME?"}},2.5936586218664526]
["Max [mg/m³]",{"$f":"sigdigits(MAX(B32:B132),4,5)","v":{"$error":"#NAME?"}},3.0265968929231475,"at 52.368 min"]
["15 min STEL [mg/m³]",null,3.0235447467394119,"between 45.84 and 60.84 min"]
[]
["time [min]","air concentration substance [mg/m³]","amount of substance remaining liquid [g]"]
[0,0,0]
[1.2,1.565580531119002E-2,0.15874334837396895]
[2.4,6.1720095874166998E-2,0.31502922804100503]
[3.6,0.13633830020650134,0.46898237692674849]
[4.8,0.23705914795141855,0.62077699748818593]
[6,0.36093791000160536,0.77062893471167793]
[7.2,0.50465383111805406,0.91878663004044947]
[8.4,0.66463555522593531,1.0655213383236126]
[9.6,0.83718825835671884,1.2111171067168458]
[10.8,1.0186165107953222,1.3558609948679541]
[12,1.2053375424219233,1.5000339680688819]
[13.2,1.3939805142148853,1.6439028246425194]
[14.4,1.5814685192256246,1.7877134322843251]
[15.6,1.7628810586202059,1.8515951004097959]
[16.8,1.924672502021374,1.8371753874820904]
[18,2.0670522424494191,1.8241871034792365]
[19.2,2.1922938136534662,1.8124629667801566]
[20.399999999999999,2.302404544122072,1.801855282049075]
[21.6,2.3991567252499362,1.7922336470204656]
[22.8,2.4841151305346014,1.7834829277569402]
[24,2.5586613129362603,1.7755014709541872]
[25.2,2.624015057549681,1.768199525544548]
[26.4,2.6812533225991548,1.7614978490981077]
[27.6,2.7313269627923544,1.7553264773877564]
[28.8,2.7750754946537795,1.7496236380166439]
[30,2.8132401330696593,1.7443347912423199]
[31.2,2.8464753014434958,1.7394117831060076]
[32.4,2.8753587941685308,1.7348120977186581]
[33.6,2.9004007492034538,1.7304981970945985]
[34.799999999999997,2.9220515700660119,1.7264369382826452]
[36,2.9407089202496524,1.7225990587445015]
[37.200000000000003,2.9567238986676614,1.7189587219898164]
[38.4,2.9704064920144191,1.7154931164127476]
[39.6,2.9820303887068134,1.7121821011008902]
[40.799999999999997,2.9918372291566149,1.709007893116723]
[42,3.0000403583726447,1.7059547913956497]
[43.2,3.0068281391643112,1.7030089329732578]
[44.4,3.0123668773953867,1.700158077756398]
[45.6,3.0168034047129968,1.6973914184958871]
[46.8,3.0202673588582432,1.6946994130099835]
[48,3.0228731969688152,1.6920736360532715]
[49.2,3.0247219731379169,1.68950664853065]
[50.4,3.0259029078331285,1.6869918820254657]
[51.6,3.0264947735466809,1.6845235368486327]
[52.8,3.0265671181950689,1.682096492025525]
[54,3.0261813452662718,1.6797062258228399]
[55.2,3.0253916674884387,1.6773487455812601]
[56.4,3.0242459488297673,1.6750205257642803]
[57.6,3.0227864479051973,1.6727184532611532]
[58.8,3.0210504743345474,1.6704397790945211]
[60,3.019070968244904,1.6681820757828181]
[61.2,3.0168770119165615,1.6659431996952783]
[62.4,3.0144942815180906,1.663721257814966]
[63.6,3.0119454459457322,1.6615145783936702]
[64.8,3.0092505189608514,1.6593216850429422]
[66,3.0064271700940148,1.6571412738589408]
[67.2,3.003490999143831,1.6549721932258294]
[68.400000000000006,3.0004557785334338,1.6528134259840852]
[69.599999999999994,2.9973336672882698,1.6506640736868181]
[70.8,2.9941353999581977,1.648523342699574]
[72,2.9908704534177573,1.6463905319277981]
[73.2,2.9875471941349727,1.6442650219813313]
[74.400000000000006,2.9841730081957203,1.6421462656077073]
[75.599999999999994,2.9807544161028625,1.6400337792456472]
[76.8,2.977297174132989,1.6379271355676077]
[78,2.9738063638247496,1.6358259568955538]
[79.2,2.9702864709885497,1.6337299093877169]
[80.400000000000006,2.966741455464577,1.63163869790605]
[81.599999999999994,2.9631748127124888,1.6295520614846817]
[82.8,2.959589628189244,1.6274697693289963]
[84,2.9559886253595233,1.6253916172831948]
[85.2,2.952374208084366,1.6233174247114923]
[86.4,2.9487484980462839,1.6212470317445113]
[87.6,2.9451133677920485,1.619180296848109]
[88.8,2.9414704699063385,1.6171170946768849]
[90,2.9378212627692633,1.6150573141790288]
[91.2,2.9341670332977938,1.6130008569230843]
[92.4,2.9305089170242753,1.6109476356206465]
[93.6,2.9268479158238256,1.6088975728220292]
[94.8,2.9231849135659425,1.6068505997646847]
[96,2.9195206899333606,1.6048066553564442]
[97.2,2.9158559326227689,1.6027656852778382]
[98.4,2.9121912481168981,1.6007276411895148]
[99.6,2.9085271711952219,1.5986924800324709]
[100.8,2.9048641733309983,1.5966601634102295]
[102,2.9012026701050502,1.5946306570433479]
[103.2,2.8975430277514187,1.5926039302878094]
[104.4,2.8938855689365455,1.5905799557098081]
[105.6,2.890230577861745,1.5885587087103192]
[106.8,2.886578304768177,1.5865401671936383]
[108,2.8829289699143086,1.5845243112747212]
[109.2,2.8792827670876551,1.5825111230208033]
[110.4,2.8756398667052672,1.5805005862232691]
[111.6,2.8720004185511891,1.5784926861962356]
[112.8,2.8683645541933651,1.5764874095987182]
[114,2.8647323891175249,1.5744847442776198]
[115.2,2.8611040246112087,1.5724846791291072]
[116.4,2.8574795494271696,1.5704872039762197]
[117.6,2.8538590412520071,1.5684923094608028]
[118.8,2.8502425680028161,1.5664999869481067]
[120,2.846630188972008,1.5645102284425396]

{"sheet":"Example III - green line","index":3,"n_rows":132,"n_cols":8,"rows_kept":132,"cut":false,"hidden":false,"merged":[]}
["Evaporation Model"]
["General parameters used for all models"]
["Exposure Duration",120,"min"]
["Molecular weight matrix",18,"g/mol"]
["Product amount",{"$f":"0.8","v":0.8},"kg"]
["Weight Fraction",1]
["Room Volume",80,"m³"]
["Ventilation rate",0.5,"/h"]
["Vapour pressure",2338,"Pa"]
["Application temperature",20,"°C"]
["Molecular weight",34,"g/mol"]
["Release Area",40,"m²"]
["Mass Transfer Coefficient",10,"m/h"]
["Application Duration",15,"min"]
["Does area increase?",true]
["Number of iterations",10000]
["Result Lines",100]
["Duration of calculated STEL",15,"min"]
[]
["Parameters used for 2 compound simulation"]
["vapour pressure solvent",null,"Pa"]
["air humidity at start & in ventillation air",null,"% - Please enter 0, if solvent is NOT WATER"]
[]
[]
["Results"]
[null,"from shown table","from internally calculated values"]
["Mean Event concentration [mg/m³]",{"$f":"sigdigits(AVERAGE(B32:B132),4,5)","v":{"$error":"#NAME?"}},6059.3525105897443]
["Max [mg/m³]",{"$f":"sigdigits(MAX(B32:B132),4,5)","v":{"$error":"#NAME?"}},9447.0959804281229,"at 15.024 min"]
["15 min STEL [mg/m³]",null,8944.6331161695107,"between 13.332 and 28.332 min"]
[]
["time [min]","air concentration substance [mg/m³]","amount of substance remaining liquid [g]",null,null,null,null,"air concentration substance - aqdjusted to 0.25% a.s. [mg/m³]"]
[0,0,0,null,null,null,null,{"$f":"B32*0.25%","v":0}]
[1.2,129.76151113616618,53.584419549353925,null,null,null,null,{"$f":"B33*0.25%","v":0.32440377784041546}]
[2.4,514.24316139092207,86.584950349179991,null,null,null,null,1.2856079034773051]
[3.6,1141.8452224835519,99.730052940577622,null,null,null,null,2.8546130562088798]
[4.8,1995.5320332974061,94.194556651731986,null,null,null,null,4.9888300832435153]
[6,3053.5260929527985,71.548215453361337,null,null,null,null,7.6338152323819966]
[7.2,4290.1641631447146,33.69068014396418,null,null,null,null,10.725410407861787]
[8.4,5453.9343632764549,0.64000000000000257,null,null,null,null,13.634835908191137]
[9.6,6195.6801097072857,0.64,null,null,null,null,15.489200274268216]
[10.8,6930.0453626452836,0.64,null,null,null,null,17.325113406613209]
[12,7657.1035592277112,0.64,null,null,null,null,19.142758898069278]
[13.2,8376.9274058801202,0.64,null,null,null,null,20.9423185147003]
[14.4,9089.5888855870162,0.64,null,null,null,null,22.723972213967542]
[15.6,9402.7916804407923,2.6826382605185959E-22,null,null,null,null,23.506979201101981]
[16.8,9309.2323399984707,6.7871724986161969E-65,null,null,null,null,23.273080849996177]
[18,9216.6039305478462,1.7171793604802627E-107,null,null,null,null,23.041509826369616]
[19.2,9124.8971891708334,4.3445263202911017E-150,null,null,null,null,22.812242972927084]
[20.399999999999999,9034.102945116847,1.0991809814452452E-192,null,null,null,null,22.585257362792117]
[21.6,8944.2121188858,2.7809679143340512E-235,null,null,null,null,22.360530297214499]
[22.8,8855.2157213201826,7.0359501038553384E-278,null,null,null,null,22.138039303300456]
[24,8767.104852706063,0,null,null,null,null,21.917762131765159]
[25.2,8679.8707018831628,0,null,null,null,null,21.699676754707909]
[26.4,8593.5045453637031,0,null,null,null,null,21.483761363409258]
[27.6,8507.9977464600524,0,null,null,null,null,21.269994366150133]
[28.8,8423.3417544210715,0,null,null,null,null,21.058354386052681]
[30,8339.5281035770167,0,null,null,null,null,20.848820258942542]
[31.2,8256.5484124929353,0,null,null,null,null,20.641371031232339]
[32.4,8174.394383130586,0,null,null,null,null,20.435985957826464]
[33.6,8093.0578000185742,0,null,null,null,null,20.232644500046437]
[34.799999999999997,8012.5305294308,0,null,null,null,null,20.031326323577002]
[36,7932.8045185731016,0,null,null,null,null,19.832011296432754]
[37.200000000000003,7853.8717947779478,0,null,null,null,null,19.634679486944869]
[38.4,7775.7244647071857,0,null,null,null,null,19.439311161767964]
[39.6,7698.3547135626886,0,null,null,null,null,19.245886783906723]
[40.799999999999997,7621.7548043048655,0,null,null,null,null,19.054387010762163]
[42,7545.9170768789554,0,null,null,null,null,18.864792692197391]
[43.2,7470.8339474490176,0,null,null,null,null,18.677084868622543]
[44.4,7396.4979076395412,0,null,null,null,null,18.491244769098852]
[45.6,7322.9015237845942,0,null,null,null,null,18.307253809461486]
[46.8,7250.0374361844633,0,null,null,null,null,18.125093590461159]
[48,7177.898358369669,0,null,null,null,null,17.944745895924171]
[49.2,7106.4770763723145,0,null,null,null,null,17.766192690930787]
[50.4,7035.7664480046824,0,null,null,null,null,17.589416120011705]
[51.6,6965.7594021450113,0,null,null,null,null,17.414398505362527]
[52.8,6896.448938030373,0,null,null,null,null,17.241122345075933]
[54,6827.8281245565959,0,null,null,null,null,17.069570311391491]
[55.2,6759.8900995851536,0,null,null,null,null,16.899725248962884]
[56.4,6692.6280692569262,0,null,null,null,null,16.731570173142316]
[57.6,6626.0353073128308,0,null,null,null,null,16.565088268282079]
[58.8,6560.1051544211823,0,null,null,null,null,16.400262886052957]
[60,6494.8310175117467,0,null,null,null,null,16.237077543779368]
[61.2,6430.206369116444,0,null,null,null,null,16.075515922791109]
[62.4,6366.224746716578,0,null,null,null,null,15.915561866791446]
[63.6,6302.8797520965873,0,null,null,null,null,15.757199380241468]
[64.8,6240.1650507042241,0,null,null,null,null,15.60041262676056]
[66,6178.0743710170836,0,null,null,null,null,15.44518592754271]
[67.2,6116.6015039154536,0,null,null,null,null,15.291503759788634]
[68.400000000000006,6055.7403020614101,0,null,null,null,null,15.139350755153526]
[69.599999999999994,5995.484679284039,0,null,null,null,null,14.988711698210098]
[70.8,5935.8286099708457,0,null,null,null,null,14.839571524927115]
[72,5876.7661284651931,0,null,null,null,null,14.691915321162982]
[73.2,5818.2913284697061,0,null,null,null,null,14.545728321174266]
[74.400000000000006,5760.3983624556549,0,null,null,null,null,14.400995906139137]
[75.599999999999994,5703.0814410781986,0,null,null,null,null,14.257703602695496]
[76.8,5646.3348325974412,0,null,null,null,null,14.115837081493604]
[78,5590.1528623052327,0,null,null,null,null,{"$f":"B97*0.25%","v":13.975382155763082}]
[79.2,5534.5299119577312,0,null,null,null,null,13.836324779894328]
[80.400000000000006,5479.4604192135503,0,null,null,null,null,13.698651048033875]
[81.599999999999994,5424.9388770775222,0,null,null,null,null,13.562347192693807]
[82.8,5370.9598333500026,0,null,null,null,null,13.427399583375006]
[84,5317.5178900816336,0,null,null,null,null,13.293794725204084]
[85.2,5264.6077030335482,0,null,null,null,null,13.161519257583871]
[86.4,5212.2239811429572,0,null,null,null,null,13.030559952857393]
[87.6,5160.3614859940044,0,null,null,null,null,12.900903714985011]
[88.8,5109.015031293975,0,null,null,null,null,12.772537578234937]
[90,5058.1794823545997,0,null,null,null,null,12.645448705886499]
[91.2,5007.8497555786225,0,null,null,null,null,12.519624388946557]
[92.4,4958.0208179514284,0,null,null,null,null,12.395052044878572]
[93.6,4908.6876865377271,0,null,null,null,null,12.271719216344318]
[94.8,4859.8454279832667,0,null,null,null,null,12.149613569958166]
[96,4811.4891580214853,0,null,null,null,null,12.028722895053713]
[97.2,4763.6140409850941,0,null,null,null,null,11.909035102462736]
[98.4,4716.2152893224911,0,null,null,null,null,11.790538223306228]
[99.6,4669.2881631190157,0,null,null,null,null,11.67322040779754]
[100.8,4622.8279696229374,0,null,null,null,null,11.557069924057343]
[102,4576.8300627761928,0,null,null,null,null,11.442075156940483]
[103.2,4531.2898427497676,0,null,null,null,null,11.32822460687442]
[104.4,4486.2027554837032,0,null,null,null,null,11.215506888709259]
[105.6,4441.5642922316983,0,null,null,null,null,11.103910730579246]
[106.8,4397.3699891102333,0,null,null,null,null,10.993424972775584]
[108,4353.6154266521726,0,null,null,null,null,10.884038566630432]
[109.2,4310.2962293647961,0,null,null,null,null,10.775740573411991]
[110.4,4267.4080652922839,0,null,null,null,null,10.66852016323071]
[111.6,4224.9466455824831,0,null,null,null,null,10.562366613956208]
[112.8,4182.9077240580391,0,null,null,null,null,10.457269310145097]
[114,4141.2870967917715,0,null,null,null,null,10.35321774197943]
[115.2,4100.0806016862707,0,null,null,null,null,10.250201504215678]
[116.4,4059.2841180576866,0,null,null,null,null,10.148210295144217]
[117.6,4018.8935662236509,0,null,null,null,null,10.047233915559127]
[118.8,3978.904907095327,0,null,null,null,null,9.9472622677383171]
[120,3939.3141417734778,0,null,null,null,null,9.8482853544336955]

{"sheet":"Example IV - purple line","index":4,"n_rows":132,"n_cols":4,"rows_kept":132,"cut":false,"hidden":false,"merged":[]}
["Evaporation Model"]
["General parameters used for all models"]
["Exposure Duration",120,"min"]
["Molecular weight matrix",18,"g/mol"]
["Product amount",{"$f":"0.25%*0.8","v":2E-3},"kg"]
["Weight Fraction",1]
["Room Volume",80,"m³"]
["Ventilation rate",0.5,"/h"]
["Vapour pressure",214,"Pa"]
["Application temperature",20,"°C"]
["Molecular weight",34,"g/mol"]
["Release Area",40,"m²"]
["Mass Transfer Coefficient",10,"m/h"]
["Application Duration",15,"min"]
["Does area increase?",true]
["Number of iterations",10000]
["Result Lines",100]
["Duration of calculated STEL",15,"min"]
[]
["Parameters used for 2 compound simulation"]
["vapour pressure solvent",null,"Pa"]
["air humidity at start & in ventillation air",null,"% - Please enter 0, if solvent is NOT WATER"]
[]
[]
["Results"]
[null,"from shown table","from internally calculated values"]
["Mean Event concentration [mg/m³]",{"$f":"sigdigits(AVERAGE(B32:B132),4,5)","v":{"$error":"#NAME?"}},15.200537340262063]
["Max [mg/m³]",{"$f":"sigdigits(MAX(B32:B132),4,5)","v":{"$error":"#NAME?"}},23.492649081834024,"at 15.024 min"]
["15 min STEL [mg/m³]",null,22.242329631962335,"between 13.344 and 28.344 min"]
[]
["time [min]","air concentration substance [mg/m³]","amount of substance remaining liquid [g]"]
[0,0,0]
[1.2,1.970293570883823,1.5999999999999999E-3]
[2.4,3.9407220724569729,1.5999999999999999E-3]
[3.6,5.8915444828540879,1.5999999999999999E-3]
[4.8,7.8229558859419068,1.5999999999999999E-3]
[6,9.735149424470249,1.5999999999999999E-3]
[7.2,11.628316319386469,1.5999999999999999E-3]
[8.4,13.502645888957707,1.5999999999999999E-3]
[9.6,15.358325567702856,1.5999999999999999E-3]
[10.8,17.195540925136189,1.5999999999999999E-3]
[12,19.014475684324506,1.5999999999999999E-3]
[13.2,20.815311740259457,1.5999999999999999E-3]
[14.4,22.598229178047387,1.5999999999999999E-3]
[15.6,23.382487329294129,6.7065956512964965E-25]
[16.8,23.149827693009676,1.6967931246540523E-67]
[18,22.919483058786135,4.2929484012006595E-110]
[19.2,22.691430391968073,1.0861315800727779E-152]
[20.399999999999999,22.465646887098785,2.7479524536131215E-195]
[21.6,22.242109965639667,6.952419785835148E-238]
[22.8,22.020797273712265,1.7589875259638397E-280]
[24,21.801686679862954,0]
[25.2,21.584756272849773,0]
[26.4,21.369984359451237,0]
[27.6,21.157349462297006,0]
[28.8,20.946830317720206,0]
[30,20.738405873630928,0]
[31.2,20.532055287411055,0]
[32.4,20.327757923830042,0]
[33.6,20.125493352981266,0]
[34.799999999999997,19.925241348239076,0]
[36,19.726981884236146,0]
[37.200000000000003,19.530695134860864,0]
[38.4,19.336361471274667,0]
[39.6,19.143961459949306,0]
[40.799999999999997,18.953475860723294,0]
[42,18.764885624877966,0]
[43.2,18.578171893232582,0]
[44.4,18.393315994258391,0]
[45.6,18.210299442211443,0]
[46.8,18.029103935284006,0]
[48,17.849711353774399,0]
[49.2,17.672103758274989,0]
[50.4,17.496263387878187,0]
[51.6,17.322172658400444,0]
[52.8,17.149814160623741,0]
[54,16.97917065855469,0]
[55.2,16.810225087700811,0]
[56.4,16.642960553364283,0]
[57.6,16.477360328952276,0]
[58.8,16.313407854304348,0]
[60,16.151086734036397,0]
[61.2,15.99038073590112,0]
[62.4,15.831273789164804,0]
[63.6,15.673749983000176,0]
[64.8,15.517793564895353,0]
[66,15.363388939078558,0]
[67.2,15.210520664958528,0]
[68.400000000000006,15.059173455580474,0]
[69.599999999999994,14.909332176097331,0]
[70.8,14.76098184225628,0]
[72,14.61410761890032,0]
[73.2,14.468694818484716,0]
[74.400000000000006,14.324728899608248,0]
[75.599999999999994,14.182195465559051,0]
[76.8,14.041080262874944,0]
[78,13.901369179918056,0]
[79.2,13.763048245463686,0]
[80.400000000000006,13.62610362730311,0]
[81.599999999999994,13.490521630860369,0]
[82.8,13.356288697822864,0]
[84,13.223391404785412,0]
[85.2,13.091816461907985,0]
[86.4,12.961550711586625,0]
[87.6,12.832581127137738,0]
[88.8,12.704894811495432,0]
[90,12.578478995921722,0]
[91.2,12.453321038729706,0]
[92.4,12.329408424019357,0]
[93.6,12.206728760425959,0]
[94.8,12.085269779880912,0]
[96,11.965019336384936,0]
[97.2,11.845965404793493,0]
[98.4,11.728096079614193,0]
[99.6,11.611399573816295,0]
[100.8,11.495864217651983,0]
[102,11.381478457489365,0]
[103.2,11.268230854657093,0]
[104.4,11.156110084300503,0]
[105.6,11.04510493424913,0]
[106.8,10.935204303895471,0]
[108,10.826397203084902,0]
[109.2,10.718672751016671,0]
[110.4,10.612020175155797,0]
[111.6,10.506428810155811,0]
[112.8,10.401888096792236,0]
[114,10.298387580906599,0]
[115.2,10.195916912361064,0]
[116.4,10.0944658440034,0]
[117.6,9.9940242306422267,0]
[118.8,9.8945820280324934,0]
[120,9.7961292918710772,0]

{"sheet":"Figure 1","index":5,"n_rows":102,"n_cols":5,"rows_kept":102,"cut":false,"hidden":false,"merged":[]}
["t [min]","only H2O2 volatile: c(H2O2, air) [mg/m³]","H2O2 and H2O volatile: c(H2O2, air) [mg/m³]","Calculation of pure H2O, adjusted to concentration of H2O2: c(H2O2, air) [mg/m³]","Calculation assuming only pure  H2O2: c(H2O2, air) [mg/m³]"]
[{"$f":"'Example I - red line'!A32","v":0},{"$f":"'Example II - blue line'!B32","v":0},{"$f":"'Example I - red line'!B32","v":0},{"$f":"'Example III - green line'!H32","v":0},{"$f":"'Example IV - purple line'!B32","v":0}]
[{"$f":"'Example I - red line'!A33","v":1.2},{"$f":"'Example II - blue line'!B33","v":1.565580531119002E-2},{"$f":"'Example I - red line'!B33","v":1.6614786878707991E-2},{"$f":"'Example III - green line'!H33","v":0.32440377784041546},{"$f":"'Example IV - purple line'!B33","v":1.970293570883823}]
[{"$f":"'Example I - red line'!A34","v":2.4},{"$f":"'Example II - blue line'!B34","v":6.1720095874166998E-2},{"$f":"'Example I - red line'!B34","v":6.9791072391830272E-2},{"$f":"'Example III - green line'!H34","v":1.2856079034773051},{"$f":"'Example IV - purple line'!B34","v":3.9407220724569729}]
[{"$f":"'Example I - red line'!A35","v":3.6},{"$f":"'Example II - blue line'!B35","v":0.13633830020650134},{"$f":"'Example I - red line'!B35","v":0.16497376255213217},{"$f":"'Example III - green line'!H35","v":2.8546130562088798},{"$f":"'Example IV - purple line'!B35","v":5.8915444828540879}]
[{"$f":"'Example I - red line'!A36","v":4.8},{"$f":"'Example II - blue line'!B36","v":0.23705914795141855},{"$f":"'Example I - red line'!B36","v":0.30838079886224895},{"$f":"'Example III - green line'!H36","v":4.9888300832435153},{"$f":"'Example IV - purple line'!B36","v":7.8229558859419068}]
[{"$f":"'Example I - red line'!A37","v":6},{"$f":"'Example II - blue line'!B37","v":0.36093791000160536},{"$f":"'Example I - red line'!B37","v":0.50727666947128003},{"$f":"'Example III - green line'!H37","v":7.6338152323819966},{"$f":"'Example IV - purple line'!B37","v":9.735149424470249}]
[{"$f":"'Example I - red line'!A38","v":7.2},{"$f":"'Example II - blue line'!B38","v":0.50465383111805406},{"$f":"'Example I - red line'!B38","v":0.77030405930322654},{"$f":"'Example III - green line'!H38","v":10.725410407861787},{"$f":"'Example IV - purple line'!B38","v":11.628316319386469}]
[{"$f":"'Example I - red line'!A39","v":8.4},{"$f":"'Example II - blue line'!B39","v":0.66463555522593531},{"$f":"'Example I - red line'!B39","v":1.1078518552329661},{"$f":"'Example III - green line'!H39","v":13.634835908191137},{"$f":"'Example IV - purple line'!B39","v":13.502645888957707}]
[{"$f":"'Example I - red line'!A40","v":9.6},{"$f":"'Example II - blue line'!B40","v":0.83718825835671884},{"$f":"'Example I - red line'!B40","v":1.5324028164485037},{"$f":"'Example III - green line'!H40","v":15.489200274268216},{"$f":"'Example IV - purple line'!B40","v":15.358325567702856}]
[{"$f":"'Example I - red line'!A41","v":10.8},{"$f":"'Example II - blue line'!B41","v":1.0186165107953222},{"$f":"'Example I - red line'!B41","v":2.0587398224254465},{"$f":"'Example III - green line'!H41","v":17.325113406613209},{"$f":"'Example IV - purple line'!B41","v":17.195540925136189}]
[{"$f":"'Example I - red line'!A42","v":12},{"$f":"'Example II - blue line'!B42","v":1.2053375424219233},{"$f":"'Example I - red line'!B42","v":2.7037802496750549},{"$f":"'Example III - green line'!H42","v":19.142758898069278},{"$f":"'Example IV - purple line'!B42","v":19.014475684324506}]
[{"$f":"'Example I - red line'!A43","v":13.2},{"$f":"'Example II - blue line'!B43","v":1.3939805142148853},{"$f":"'Example I - red line'!B43","v":3.4856441751359792},{"$f":"'Example III - green line'!H43","v":20.9423185147003},{"$f":"'Example IV - purple line'!B43","v":20.815311740259457}]
[{"$f":"'Example I - red line'!A44","v":14.4},{"$f":"'Example II - blue line'!B44","v":1.5814685192256246},{"$f":"'Example I - red line'!B44","v":4.4213697792939239},{"$f":"'Example III - green line'!H44","v":22.723972213967542},{"$f":"'Example IV - purple line'!B44","v":22.598229178047387}]
[{"$f":"'Example I - red line'!A45","v":15.6},{"$f":"'Example II - blue line'!B45","v":1.7628810586202059},{"$f":"'Example I - red line'!B45","v":5.5900777523343663},{"$f":"'Example III - green line'!H45","v":23.506979201101981},{"$f":"'Example IV - purple line'!B45","v":23.382487329294129}]
[{"$f":"'Example I - red line'!A46","v":16.8},{"$f":"'Example II - blue line'!B46","v":1.924672502021374},{"$f":"'Example I - red line'!B46","v":7.8816226414384278},{"$f":"'Example III - green line'!H46","v":23.273080849996177},{"$f":"'Example IV - purple line'!B46","v":23.149827693009676}]
[{"$f":"'Example I - red line'!A47","v":18},{"$f":"'Example II - blue line'!B47","v":2.0670522424494191},{"$f":"'Example I - red line'!B47","v":24.598660654235474},{"$f":"'Example III - green line'!H47","v":23.041509826369616},{"$f":"'Example IV - purple line'!B47","v":22.919483058786135}]
[{"$f":"'Example I - red line'!A48","v":19.2},{"$f":"'Example II - blue line'!B48","v":2.1922938136534662},{"$f":"'Example I - red line'!B48","v":24.353899982617932},{"$f":"'Example III - green line'!H48","v":22.812242972927084},{"$f":"'Example IV - purple line'!B48","v":22.691430391968073}]
[{"$f":"'Example I - red line'!A49","v":20.399999999999999},{"$f":"'Example II - blue line'!B49","v":2.302404544122072},{"$f":"'Example I - red line'!B49","v":24.111574628934754},{"$f":"'Example III - green line'!H49","v":22.585257362792117},{"$f":"'Example IV - purple line'!B49","v":22.465646887098785}]
[{"$f":"'Example I - red line'!A50","v":21.6},{"$f":"'Example II - blue line'!B50","v":2.3991567252499362},{"$f":"'Example I - red line'!B50","v":23.8716604528075},{"$f":"'Example III - green line'!H50","v":22.360530297214499},{"$f":"'Example IV - purple line'!B50","v":22.242109965639667}]
[{"$f":"'Example I - red line'!A51","v":22.8},{"$f":"'Example II - blue line'!B51","v":2.4841151305346014},{"$f":"'Example I - red line'!B51","v":23.634133462618649},{"$f":"'Example III - green line'!H51","v":22.138039303300456},{"$f":"'Example IV - purple line'!B51","v":22.020797273712265}]
[{"$f":"'Example I - red line'!A52","v":24},{"$f":"'Example II - blue line'!B52","v":2.5586613129362603},{"$f":"'Example I - red line'!B52","v":23.398969905471255},{"$f":"'Example III - green line'!H52","v":21.917762131765159},{"$f":"'Example IV - purple line'!B52","v":21.801686679862954}]
[{"$f":"'Example I - red line'!A53","v":25.2},{"$f":"'Example II - blue line'!B53","v":2.624015057549681},{"$f":"'Example I - red line'!B53","v":23.166146264813605},{"$f":"'Example III - green line'!H53","v":21.699676754707909},{"$f":"'Example IV - purple line'!B53","v":21.584756272849773}]
[{"$f":"'Example I - red line'!A54","v":26.4},{"$f":"'Example II - blue line'!B54","v":2.6812533225991548},{"$f":"'Example I - red line'!B54","v":22.935639258087622},{"$f":"'Example III - green line'!H54","v":21.483761363409258},{"$f":"'Example IV - purple line'!B54","v":21.369984359451237}]
[{"$f":"'Example I - red line'!A55","v":27.6},{"$f":"'Example II - blue line'!B55","v":2.7313269627923544},{"$f":"'Example I - red line'!B55","v":22.707425834400535},{"$f":"'Example III - green line'!H55","v":21.269994366150133},{"$f":"'Example IV - purple line'!B55","v":21.157349462297006}]
[{"$f":"'Example I - red line'!A56","v":28.8},{"$f":"'Example II - blue line'!B56","v":2.7750754946537795},{"$f":"'Example I - red line'!B56","v":22.481483172219829},{"$f":"'Example III - green line'!H56","v":21.058354386052681},{"$f":"'Example IV - purple line'!B56","v":20.946830317720206}]
[{"$f":"'Example I - red line'!A57","v":30},{"$f":"'Example II - blue line'!B57","v":2.8132401330696593},{"$f":"'Example I - red line'!B57","v":22.25778867709095},{"$f":"'Example III - green line'!H57","v":20.848820258942542},{"$f":"'Example IV - purple line'!B57","v":20.738405873630928}]
[{"$f":"'Example I - red line'!A58","v":31.2},{"$f":"'Example II - blue line'!B58","v":2.8464753014434958},{"$f":"'Example I - red line'!B58","v":22.036319979378028},{"$f":"'Example III - green line'!H58","v":20.641371031232339},{"$f":"'Example IV - purple line'!B58","v":20.532055287411055}]
[{"$f":"'Example I - red line'!A59","v":32.4},{"$f":"'Example II - blue line'!B59","v":2.8753587941685308},{"$f":"'Example I - red line'!B59","v":21.817054932026689},{"$f":"'Example III - green line'!H59","v":20.435985957826464},{"$f":"'Example IV - purple line'!B59","v":20.327757923830042}]
[{"$f":"'Example I - red line'!A60","v":33.6},{"$f":"'Example II - blue line'!B60","v":2.9004007492034538},{"$f":"'Example I - red line'!B60","v":21.599971608349499},{"$f":"'Example III - green line'!H60","v":20.232644500046437},{"$f":"'Example IV - purple line'!B60","v":20.125493352981266}]
[{"$f":"'Example I - red line'!A61","v":34.799999999999997},{"$f":"'Example II - blue line'!B61","v":2.9220515700660119},{"$f":"'Example I - red line'!B61","v":21.385048299833187},{"$f":"'Example III - green line'!H61","v":20.031326323577002},{"$f":"'Example IV - purple line'!B61","v":19.925241348239076}]
[{"$f":"'Example I - red line'!A62","v":36},{"$f":"'Example II - blue line'!B62","v":2.9407089202496524},{"$f":"'Example I - red line'!B62","v":21.172263513967781},{"$f":"'Example III - green line'!H62","v":19.832011296432754},{"$f":"'Example IV - purple line'!B62","v":19.726981884236146}]
[{"$f":"'Example I - red line'!A63","v":37.200000000000003},{"$f":"'Example II - blue line'!B63","v":2.9567238986676614},{"$f":"'Example I - red line'!B63","v":20.961595972097392},{"$f":"'Example III - green line'!H63","v":19.634679486944869},{"$f":"'Example IV - purple line'!B63","v":19.530695134860864}]
[{"$f":"'Example I - red line'!A64","v":38.4},{"$f":"'Example II - blue line'!B64","v":2.9704064920144191},{"$f":"'Example I - red line'!B64","v":20.753024607292261},{"$f":"'Example III - green line'!H64","v":19.439311161767964},{"$f":"'Example IV - purple line'!B64","v":19.336361471274667}]
[{"$f":"'Example I - red line'!A65","v":39.6},{"$f":"'Example II - blue line'!B65","v":2.9820303887068134},{"$f":"'Example I - red line'!B65","v":20.546528562242074},{"$f":"'Example III - green line'!H65","v":19.245886783906723},{"$f":"'Example IV - purple line'!B65","v":19.143961459949306}]
[{"$f":"'Example I - red line'!A66","v":40.799999999999997},{"$f":"'Example II - blue line'!B66","v":2.9918372291566149},{"$f":"'Example I - red line'!B66","v":20.342087187170304},{"$f":"'Example III - green line'!H66","v":19.054387010762163},{"$f":"'Example IV - purple line'!B66","v":18.953475860723294}]
[{"$f":"'Example I - red line'!A67","v":42},{"$f":"'Example II - blue line'!B67","v":3.0000403583726447},{"$f":"'Example I - red line'!B67","v":20.13968003776905},{"$f":"'Example III - green line'!H67","v":18.864792692197391},{"$f":"'Example IV - purple line'!B67","v":18.764885624877966}]
[{"$f":"'Example I - red line'!A68","v":43.2},{"$f":"'Example II - blue line'!B68","v":3.0068281391643112},{"$f":"'Example I - red line'!B68","v":19.939286873154671},{"$f":"'Example III - green line'!H68","v":18.677084868622543},{"$f":"'Example IV - purple line'!B68","v":18.578171893232582}]
[{"$f":"'Example I - red line'!A69","v":44.4},{"$f":"'Example II - blue line'!B69","v":3.0123668773953867},{"$f":"'Example I - red line'!B69","v":19.740887653843757},{"$f":"'Example III - green line'!H69","v":18.491244769098852},{"$f":"'Example IV - purple line'!B69","v":18.393315994258391}]
[{"$f":"'Example I - red line'!A70","v":45.6},{"$f":"'Example II - blue line'!B70","v":3.0168034047129968},{"$f":"'Example I - red line'!B70","v":19.54446253974902},{"$f":"'Example III - green line'!H70","v":18.307253809461486},{"$f":"'Example IV - purple line'!B70","v":18.210299442211443}]
[{"$f":"'Example I - red line'!A71","v":46.8},{"$f":"'Example II - blue line'!B71","v":3.0202673588582432},{"$f":"'Example I - red line'!B71","v":19.349991888195358},{"$f":"'Example III - green line'!H71","v":18.125093590461159},{"$f":"'Example IV - purple line'!B71","v":18.029103935284006}]
[{"$f":"'Example I - red line'!A72","v":48},{"$f":"'Example II - blue line'!B72","v":3.0228731969688152},{"$f":"'Example I - red line'!B72","v":19.157456251955573},{"$f":"'Example III - green line'!H72","v":17.944745895924171},{"$f":"'Example IV - purple line'!B72","v":17.849711353774399}]
[{"$f":"'Example I - red line'!A73","v":49.2},{"$f":"'Example II - blue line'!B73","v":3.0247219731379169},{"$f":"'Example I - red line'!B73","v":18.966836377305583},{"$f":"'Example III - green line'!H73","v":17.766192690930787},{"$f":"'Example IV - purple line'!B73","v":17.672103758274989}]
[{"$f":"'Example I - red line'!A74","v":50.4},{"$f":"'Example II - blue line'!B74","v":3.0259029078331285},{"$f":"'Example I - red line'!B74","v":18.778113202099075},{"$f":"'Example III - green line'!H74","v":17.589416120011705},{"$f":"'Example IV - purple line'!B74","v":17.496263387878187}]
[{"$f":"'Example I - red line'!A75","v":51.6},{"$f":"'Example II - blue line'!B75","v":3.0264947735466809},{"$f":"'Example I - red line'!B75","v":18.59126785386125},{"$f":"'Example III - green line'!H75","v":17.414398505362527},{"$f":"'Example IV - purple line'!B75","v":17.322172658400444}]
[{"$f":"'Example I - red line'!A76","v":52.8},{"$f":"'Example II - blue line'!B76","v":3.0265671181950689},{"$f":"'Example I - red line'!B76","v":18.406281647901597},{"$f":"'Example III - green line'!H76","v":17.241122345075933},{"$f":"'Example IV - purple line'!B76","v":17.149814160623741}]
[{"$f":"'Example I - red line'!A77","v":54},{"$f":"'Example II - blue line'!B77","v":3.0261813452662718},{"$f":"'Example I - red line'!B77","v":18.223136085445329},{"$f":"'Example III - green line'!H77","v":17.069570311391491},{"$f":"'Example IV - purple line'!B77","v":16.97917065855469}]
[{"$f":"'Example I - red line'!A78","v":55.2},{"$f":"'Example II - blue line'!B78","v":3.0253916674884387},{"$f":"'Example I - red line'!B78","v":18.041812851783618},{"$f":"'Example III - green line'!H78","v":16.899725248962884},{"$f":"'Example IV - purple line'!B78","v":16.810225087700811}]
[{"$f":"'Example I - red line'!A79","v":56.4},{"$f":"'Example II - blue line'!B79","v":3.0242459488297673},{"$f":"'Example I - red line'!B79","v":17.862293814441983},{"$f":"'Example III - green line'!H79","v":16.731570173142316},{"$f":"'Example IV - purple line'!B79","v":16.642960553364283}]
[{"$f":"'Example I - red line'!A80","v":57.6},{"$f":"'Example II - blue line'!B80","v":3.0227864479051973},{"$f":"'Example I - red line'!B80","v":17.684561021367095},{"$f":"'Example III - green line'!H80","v":16.565088268282079},{"$f":"'Example IV - purple line'!B80","v":16.477360328952276}]
[{"$f":"'Example I - red line'!A81","v":58.8},{"$f":"'Example II - blue line'!B81","v":3.0210504743345474},{"$f":"'Example I - red line'!B81","v":17.508596699131513},{"$f":"'Example III - green line'!H81","v":16.400262886052957},{"$f":"'Example IV - purple line'!B81","v":16.313407854304348}]
[{"$f":"'Example I - red line'!A82","v":60},{"$f":"'Example II - blue line'!B82","v":3.019070968244904},{"$f":"'Example I - red line'!B82","v":17.334383251156375},{"$f":"'Example III - green line'!H82","v":16.237077543779368},{"$f":"'Example IV - purple line'!B82","v":16.151086734036397}]
[{"$f":"'Example I - red line'!A83","v":61.2},{"$f":"'Example II - blue line'!B83","v":3.0168770119165615},{"$f":"'Example I - red line'!B83","v":17.161903255951749},{"$f":"'Example III - green line'!H83","v":16.075515922791109},{"$f":"'Example IV - purple line'!B83","v":15.99038073590112}]
[{"$f":"'Example I - red line'!A84","v":62.4},{"$f":"'Example II - blue line'!B84","v":3.0144942815180906},{"$f":"'Example I - red line'!B84","v":16.991139465374335},{"$f":"'Example III - green line'!H84","v":15.915561866791446},{"$f":"'Example IV - purple line'!B84","v":15.831273789164804}]
[{"$f":"'Example I - red line'!A85","v":63.6},{"$f":"'Example II - blue line'!B85","v":3.0119454459457322},{"$f":"'Example I - red line'!B85","v":16.822074802902783},{"$f":"'Example III - green line'!H85","v":15.757199380241468},{"$f":"'Example IV - purple line'!B85","v":15.673749983000176}]
[{"$f":"'Example I - red line'!A86","v":64.8},{"$f":"'Example II - blue line'!B86","v":3.0092505189608514},{"$f":"'Example I - red line'!B86","v":16.65469236192996},{"$f":"'Example III - green line'!H86","v":15.60041262676056},{"$f":"'Example IV - purple line'!B86","v":15.517793564895353}]
[{"$f":"'Example I - red line'!A87","v":66},{"$f":"'Example II - blue line'!B87","v":3.0064271700940148},{"$f":"'Example I - red line'!B87","v":16.488975404072281},{"$f":"'Example III - green line'!H87","v":15.44518592754271},{"$f":"'Example IV - purple line'!B87","v":15.363388939078558}]
[{"$f":"'Example I - red line'!A88","v":67.2},{"$f":"'Example II - blue line'!B88","v":3.003490999143831},{"$f":"'Example I - red line'!B88","v":16.324907357495889},{"$f":"'Example III - green line'!H88","v":15.291503759788634},{"$f":"'Example IV - purple line'!B88","v":15.210520664958528}]
[{"$f":"'Example I - red line'!A89","v":68.400000000000006},{"$f":"'Example II - blue line'!B89","v":3.0004557785334338},{"$f":"'Example I - red line'!B89","v":16.16247181525938},{"$f":"'Example III - green line'!H89","v":15.139350755153526},{"$f":"'Example IV - purple line'!B89","v":15.059173455580474}]
[{"$f":"'Example I - red line'!A90","v":69.599999999999994},{"$f":"'Example II - blue line'!B90","v":2.9973336672882698},{"$f":"'Example I - red line'!B90","v":16.001652533673155},{"$f":"'Example III - green line'!H90","v":14.988711698210098},{"$f":"'Example IV - purple line'!B90","v":14.909332176097331}]
[{"$f":"'Example I - red line'!A91","v":70.8},{"$f":"'Example II - blue line'!B91","v":2.9941353999581977},{"$f":"'Example I - red line'!B91","v":15.84243343067506},{"$f":"'Example III - green line'!H91","v":14.839571524927115},{"$f":"'Example IV - purple line'!B91","v":14.76098184225628}]
[{"$f":"'Example I - red line'!A92","v":72},{"$f":"'Example II - blue line'!B92","v":2.9908704534177573},{"$f":"'Example I - red line'!B92","v":15.684798584222106},{"$f":"'Example III - green line'!H92","v":14.691915321162982},{"$f":"'Example IV - purple line'!B92","v":14.61410761890032}]
[{"$f":"'Example I - red line'!A93","v":73.2},{"$f":"'Example II - blue line'!B93","v":2.9875471941349727},{"$f":"'Example I - red line'!B93","v":15.528732230698274},{"$f":"'Example III - green line'!H93","v":14.545728321174266},{"$f":"'Example IV - purple line'!B93","v":14.468694818484716}]
[{"$f":"'Example I - red line'!A94","v":74.400000000000006},{"$f":"'Example II - blue line'!B94","v":2.9841730081957203},{"$f":"'Example I - red line'!B94","v":15.374218763338176},{"$f":"'Example III - green line'!H94","v":14.400995906139137},{"$f":"'Example IV - purple line'!B94","v":14.324728899608248}]
[{"$f":"'Example I - red line'!A95","v":75.599999999999994},{"$f":"'Example II - blue line'!B95","v":2.9807544161028625},{"$f":"'Example I - red line'!B95","v":15.221242730666305},{"$f":"'Example III - green line'!H95","v":14.257703602695496},{"$f":"'Example IV - purple line'!B95","v":14.182195465559051}]
[{"$f":"'Example I - red line'!A96","v":76.8},{"$f":"'Example II - blue line'!B96","v":2.977297174132989},{"$f":"'Example I - red line'!B96","v":15.069788834951915},{"$f":"'Example III - green line'!H96","v":14.115837081493604},{"$f":"'Example IV - purple line'!B96","v":14.041080262874944}]
[{"$f":"'Example I - red line'!A97","v":78},{"$f":"'Example II - blue line'!B97","v":2.9738063638247496},{"$f":"'Example I - red line'!B97","v":14.919841930679214},{"$f":"'Example III - green line'!H97","v":13.975382155763082},{"$f":"'Example IV - purple line'!B97","v":13.901369179918056}]
[{"$f":"'Example I - red line'!A98","v":79.2},{"$f":"'Example II - blue line'!B98","v":2.9702864709885497},{"$f":"'Example I - red line'!B98","v":14.771387023032823},{"$f":"'Example III - green line'!H98","v":13.836324779894328},{"$f":"'Example IV - purple line'!B98","v":13.763048245463686}]
[{"$f":"'Example I - red line'!A99","v":80.400000000000006},{"$f":"'Example II - blue line'!B99","v":2.966741455464577},{"$f":"'Example I - red line'!B99","v":14.624409266398265},{"$f":"'Example III - green line'!H99","v":13.698651048033875},{"$f":"'Example IV - purple line'!B99","v":13.62610362730311}]
[{"$f":"'Example I - red line'!A100","v":81.599999999999994},{"$f":"'Example II - blue line'!B100","v":2.9631748127124888},{"$f":"'Example I - red line'!B100","v":14.478893962877381},{"$f":"'Example III - green line'!H100","v":13.562347192693807},{"$f":"'Example IV - purple line'!B100","v":13.490521630860369}]
[{"$f":"'Example I - red line'!A101","v":82.8},{"$f":"'Example II - blue line'!B101","v":2.959589628189244},{"$f":"'Example I - red line'!B101","v":14.334826560818597},{"$f":"'Example III - green line'!H101","v":13.427399583375006},{"$f":"'Example IV - purple line'!B101","v":13.356288697822864}]
[{"$f":"'Example I - red line'!A102","v":84},{"$f":"'Example II - blue line'!B102","v":2.9559886253595233},{"$f":"'Example I - red line'!B102","v":14.192192653361612},{"$f":"'Example III - green line'!H102","v":13.293794725204084},{"$f":"'Example IV - purple line'!B102","v":13.223391404785412}]
[{"$f":"'Example I - red line'!A103","v":85.2},{"$f":"'Example II - blue line'!B103","v":2.952374208084366},{"$f":"'Example I - red line'!B103","v":14.050977976996821},{"$f":"'Example III - green line'!H103","v":13.161519257583871},{"$f":"'Example IV - purple line'!B103","v":13.091816461907985}]
[{"$f":"'Example I - red line'!A104","v":86.4},{"$f":"'Example II - blue line'!B104","v":2.9487484980462839},{"$f":"'Example I - red line'!B104","v":13.911168410138922},{"$f":"'Example III - green line'!H104","v":13.030559952857393},{"$f":"'Example IV - purple line'!B104","v":12.961550711586625}]
[{"$f":"'Example I - red line'!A105","v":87.6},{"$f":"'Example II - blue line'!B105","v":2.9451133677920485},{"$f":"'Example I - red line'!B105","v":13.772749971714729},{"$f":"'Example III - green line'!H105","v":12.900903714985011},{"$f":"'Example IV - purple line'!B105","v":12.832581127137738}]
[{"$f":"'Example I - red line'!A106","v":88.8},{"$f":"'Example II - blue line'!B106","v":2.9414704699063385},{"$f":"'Example I - red line'!B106","v":13.635708819765028},{"$f":"'Example III - green line'!H106","v":12.772537578234937},{"$f":"'Example IV - purple line'!B106","v":12.704894811495432}]
[{"$f":"'Example I - red line'!A107","v":90},{"$f":"'Example II - blue line'!B107","v":2.9378212627692633},{"$f":"'Example I - red line'!B107","v":13.500031250060429},{"$f":"'Example III - green line'!H107","v":12.645448705886499},{"$f":"'Example IV - purple line'!B107","v":12.578478995921722}]
[{"$f":"'Example I - red line'!A108","v":91.2},{"$f":"'Example II - blue line'!B108","v":2.9341670332977938},{"$f":"'Example I - red line'!B108","v":13.365703694730891},{"$f":"'Example III - green line'!H108","v":12.519624388946557},{"$f":"'Example IV - purple line'!B108","v":12.453321038729706}]
[{"$f":"'Example I - red line'!A109","v":92.4},{"$f":"'Example II - blue line'!B109","v":2.9305089170242753},{"$f":"'Example I - red line'!B109","v":13.232712720908957},{"$f":"'Example III - green line'!H109","v":12.395052044878572},{"$f":"'Example IV - purple line'!B109","v":12.329408424019357}]
[{"$f":"'Example I - red line'!A110","v":93.6},{"$f":"'Example II - blue line'!B110","v":2.9268479158238256},{"$f":"'Example I - red line'!B110","v":13.101045029386414},{"$f":"'Example III - green line'!H110","v":12.271719216344318},{"$f":"'Example IV - purple line'!B110","v":12.206728760425959}]
[{"$f":"'Example I - red line'!A111","v":94.8},{"$f":"'Example II - blue line'!B111","v":2.9231849135659425},{"$f":"'Example I - red line'!B111","v":12.970687453284379},{"$f":"'Example III - green line'!H111","v":12.149613569958166},{"$f":"'Example IV - purple line'!B111","v":12.085269779880912}]
[{"$f":"'Example I - red line'!A112","v":96},{"$f":"'Example II - blue line'!B112","v":2.9195206899333606},{"$f":"'Example I - red line'!B112","v":12.841626956736624},{"$f":"'Example III - green line'!H112","v":12.028722895053713},{"$f":"'Example IV - purple line'!B112","v":11.965019336384936}]
[{"$f":"'Example I - red line'!A113","v":97.2},{"$f":"'Example II - blue line'!B113","v":2.9158559326227689},{"$f":"'Example I - red line'!B113","v":12.713850633585933},{"$f":"'Example III - green line'!H113","v":11.909035102462736},{"$f":"'Example IV - purple line'!B113","v":11.845965404793493}]
[{"$f":"'Example I - red line'!A114","v":98.4},{"$f":"'Example II - blue line'!B114","v":2.9121912481168981},{"$f":"'Example I - red line'!B114","v":12.587345706093508},{"$f":"'Example III - green line'!H114","v":11.790538223306228},{"$f":"'Example IV - purple line'!B114","v":11.728096079614193}]
[{"$f":"'Example I - red line'!A115","v":99.6},{"$f":"'Example II - blue line'!B115","v":2.9085271711952219},{"$f":"'Example I - red line'!B115","v":12.46209952366118},{"$f":"'Example III - green line'!H115","v":11.67322040779754},{"$f":"'Example IV - purple line'!B115","v":11.611399573816295}]
[{"$f":"'Example I - red line'!A116","v":100.8},{"$f":"'Example II - blue line'!B116","v":2.9048641733309983},{"$f":"'Example I - red line'!B116","v":12.338099561566347},{"$f":"'Example III - green line'!H116","v":11.557069924057343},{"$f":"'Example IV - purple line'!B116","v":11.495864217651983}]
[{"$f":"'Example I - red line'!A117","v":102},{"$f":"'Example II - blue line'!B117","v":2.9012026701050502},{"$f":"'Example I - red line'!B117","v":12.215333419709438},{"$f":"'Example III - green line'!H117","v":11.442075156940483},{"$f":"'Example IV - purple line'!B117","v":11.381478457489365}]
[{"$f":"'Example I - red line'!A118","v":103.2},{"$f":"'Example II - blue line'!B118","v":2.8975430277514187},{"$f":"'Example I - red line'!B118","v":12.093788821373982},{"$f":"'Example III - green line'!H118","v":11.32822460687442},{"$f":"'Example IV - purple line'!B118","v":11.268230854657093}]
[{"$f":"'Example I - red line'!A119","v":104.4},{"$f":"'Example II - blue line'!B119","v":2.8938855689365455},{"$f":"'Example I - red line'!B119","v":11.973453611998867},{"$f":"'Example III - green line'!H119","v":11.215506888709259},{"$f":"'Example IV - purple line'!B119","v":11.156110084300503}]
[{"$f":"'Example I - red line'!A120","v":105.6},{"$f":"'Example II - blue line'!B120","v":2.890230577861745},{"$f":"'Example I - red line'!B120","v":11.854315757962855},{"$f":"'Example III - green line'!H120","v":11.103910730579246},{"$f":"'Example IV - purple line'!B120","v":11.04510493424913}]
[{"$f":"'Example I - red line'!A121","v":106.8},{"$f":"'Example II - blue line'!B121","v":2.886578304768177},{"$f":"'Example I - red line'!B121","v":11.736363345381273},{"$f":"'Example III - green line'!H121","v":10.993424972775584},{"$f":"'Example IV - purple line'!B121","v":10.935204303895471}]
[{"$f":"'Example I - red line'!A122","v":108},{"$f":"'Example II - blue line'!B122","v":2.8829289699143086},{"$f":"'Example I - red line'!B122","v":11.619584578914555},{"$f":"'Example III - green line'!H122","v":10.884038566630432},{"$f":"'Example IV - purple line'!B122","v":10.826397203084902}]
[{"$f":"'Example I - red line'!A123","v":109.2},{"$f":"'Example II - blue line'!B123","v":2.8792827670876551},{"$f":"'Example I - red line'!B123","v":11.503967780588752},{"$f":"'Example III - green line'!H123","v":10.775740573411991},{"$f":"'Example IV - purple line'!B123","v":10.718672751016671}]
[{"$f":"'Example I - red line'!A124","v":110.4},{"$f":"'Example II - blue line'!B124","v":2.8756398667052672},{"$f":"'Example I - red line'!B124","v":11.389501388627682},{"$f":"'Example III - green line'!H124","v":10.66852016323071},{"$f":"'Example IV - purple line'!B124","v":10.612020175155797}]
[{"$f":"'Example I - red line'!A125","v":111.6},{"$f":"'Example II - blue line'!B125","v":2.8720004185511891},{"$f":"'Example I - red line'!B125","v":11.276173956296754},{"$f":"'Example III - green line'!H125","v":10.562366613956208},{"$f":"'Example IV - purple line'!B125","v":10.506428810155811}]
[{"$f":"'Example I - red line'!A126","v":112.8},{"$f":"'Example II - blue line'!B126","v":2.8683645541933651},{"$f":"'Example I - red line'!B126","v":11.163974150758296},{"$f":"'Example III - green line'!H126","v":10.457269310145097},{"$f":"'Example IV - purple line'!B126","v":10.401888096792236}]
[{"$f":"'Example I - red line'!A127","v":114},{"$f":"'Example II - blue line'!B127","v":2.8647323891175249},{"$f":"'Example I - red line'!B127","v":11.052890751938262},{"$f":"'Example III - green line'!H127","v":10.35321774197943},{"$f":"'Example IV - purple line'!B127","v":10.298387580906599}]
[{"$f":"'Example I - red line'!A128","v":115.2},{"$f":"'Example II - blue line'!B128","v":2.8611040246112087},{"$f":"'Example I - red line'!B128","v":10.942912651404203},{"$f":"'Example III - green line'!H128","v":10.250201504215678},{"$f":"'Example IV - purple line'!B128","v":10.195916912361064}]
[{"$f":"'Example I - red line'!A129","v":116.4},{"$f":"'Example II - blue line'!B129","v":2.8574795494271696},{"$f":"'Example I - red line'!B129","v":10.834028851254402},{"$f":"'Example III - green line'!H129","v":10.148210295144217},{"$f":"'Example IV - purple line'!B129","v":10.0944658440034}]
[{"$f":"'Example I - red line'!A130","v":117.6},{"$f":"'Example II - blue line'!B130","v":2.8538590412520071},{"$f":"'Example I - red line'!B130","v":10.726228463018106},{"$f":"'Example III - green line'!H130","v":10.047233915559127},{"$f":"'Example IV - purple line'!B130","v":9.9940242306422267}]
[{"$f":"'Example I - red line'!A131","v":118.8},{"$f":"'Example II - blue line'!B131","v":2.8502425680028161},{"$f":"'Example I - red line'!B131","v":10.619500706566667},{"$f":"'Example III - green line'!H131","v":9.9472622677383171},{"$f":"'Example IV - purple line'!B131","v":9.8945820280324934}]
[{"$f":"'Example I - red line'!A132","v":120},{"$f":"'Example II - blue line'!B132","v":2.846630188972008},{"$f":"'Example I - red line'!B132","v":10.513834909035499},{"$f":"'Example III - green line'!H132","v":9.8482853544336955},{"$f":"'Example IV - purple line'!B132","v":9.7961292918710772}]